BEGIN:VCALENDAR
VERSION:2.0
PRODID:-//eventon.com NONSGML v1.0//EN
BEGIN:VEVENT
UID:69e7591b8c5b0
DTSTAMP:20260421T130147
DTSTART:20200429T080000Z
DTEND:20200429T090000Z
LOCATION:Virtuell 
SUMMARY:User Experience als Erfolgsfaktor - was steckt dahinter?
DESCRIPTION: Beschreibung: Kurze Einführung in dieWelt der User Experience und welche Vorteile sich daraus ergeben. Was nehmen die Teilnehmer mit? Erfolgsfaktoren für das richtige UX-Design einer Webseite. Wer führt das Webinar durch? Dominik van Engelen\,  User Experience & Design Thinking Coach An wen richtet sich das Webinar? Webentwickler\,  die Nutzersignale verstehen[..]
END:VEVENT
END:VCALENDAR