BEGIN:VCALENDAR
VERSION:2.0
PRODID:-//eventon.com NONSGML v1.0//EN
BEGIN:VEVENT
UID:69ea0b758e681
DTSTAMP:20260423T140717
DTSTART:20240618T220000Z
DTEND:20240619T215900Z
LOCATION:Alte Oper | Frankfurt am Main Opernpl. 1\,  60313 Frankfurt am Main
SUMMARY:Growth Marketing Summit
DESCRIPTION: Europas größte Konferenz für digitales Wachstum und Optimierung bringt gleichgesinnte Optimierer:innen aus der ganzen Welt zusammen. Tausche dich über Themen aus\,  die die digitale Welt bewegen und lerne aus erstklassigen Präsentationen. Auf dem growth marketing SUMMIT geht es weniger um Conversion Uplifts. Vielmehr geht es um einen datengesteuerten\,  kundenorientierten und agilen[..]
END:VEVENT
END:VCALENDAR